BEGIN:VCALENDAR
VERSION:2.0
METHOD:PUBLISH
PRODID:-//hacksw/handcal//NONSGML v1.0//EN
BEGIN:VEVENT
DTSTAMP:20260423T123624Z
DTSTART:20230327T163000Z
DTEND:20230327T173000Z
UID:20230327T163000Z-20230327T173000Z-1699@dnrec.delaware.gov
SUMMARY:DNREC Section 40101(d) Committee
DESCRIPTION:A meeting to discuss public comments on Delaware’s plans f
 or the federal Grid Resilience Formula Grant Program.
X-ALT-DESC;FMTTYPE=text/html:<p>A meeting to discuss public comments o
 n Delaware&#8217\;s plans for the federal Grid Resilience Formula Gran
 t Program.</p>\n
URL:https://dnrec.delaware.gov/events/dnrec-section-40101d-committee-3
 /?lang=en
ATTACH:https://dnrec.delaware.gov/events/dnrec-section-40101d-committe
 e-3/?lang=en
LOCATION:A Virtual Meeting\, See Connection Information\,
END:VEVENT
END:VCALENDAR
