BEGIN:VCALENDAR
VERSION:2.0
METHOD:PUBLISH
PRODID:-//hacksw/handcal//NONSGML v1.0//EN
BEGIN:VEVENT
DTSTAMP:20260423T123624Z
DTSTART:20230227T160000Z
DTEND:20230227T170000Z
UID:20230227T160000Z-20230227T170000Z-1679@dnrec.delaware.gov
SUMMARY:DNREC Section 40101(d) Committee
DESCRIPTION:A meeting to discuss Delaware’s plans for the federal Grid
  Resilience Formula Grant Program.
X-ALT-DESC;FMTTYPE=text/html:<p>A meeting to discuss Delaware&#8217\;s
  plans for the federal Grid Resilience Formula Grant Program.</p>\n
URL:https://dnrec.delaware.gov/events/dnrec-section-40101d-committee-2
 /?lang=en
ATTACH:https://dnrec.delaware.gov/events/dnrec-section-40101d-committe
 e-2/?lang=en
LOCATION:A Virtual Meeting\, See Connection Information\,
END:VEVENT
END:VCALENDAR
