BEGIN:VCALENDAR
VERSION:2.0
METHOD:PUBLISH
PRODID:-//hacksw/handcal//NONSGML v1.0//EN
BEGIN:VEVENT
DTSTAMP:20260421T202558Z
DTSTART:20230322T220000Z
DTEND:20230322T230000Z
UID:20230322T220000Z-20230322T230000Z-1673@dnrec.delaware.gov
SUMMARY:Public Hearing: Proposed Revisions to Erosion and Sediment Con
 trol Guidance Documents
DESCRIPTION:The DNREC Division of Watershed Stewardship will conduct a
  public hearing (Docket #2023-R-WS-0004) on proposed revisions to sele
 cted sections of the Delaware Erosion and Sediment Control Handbook. T
 he public comment period closed.
X-ALT-DESC;FMTTYPE=text/html:<p>The DNREC Division of Watershed Stewar
 dship will conduct a public hearing (Docket #2023-R-WS-0004) on propos
 ed revisions to selected sections of the Delaware Erosion and Sediment
  Control Handbook. <strong>The public comment period closed.</strong><
 /p>\n
URL:https://dnrec.delaware.gov/events/public-hearing-proposed-revision
 s-to-sediment-and-stormwater-program-guidance-documents/?lang=en
ATTACH:https://dnrec.delaware.gov/events/public-hearing-proposed-revis
 ions-to-sediment-and-stormwater-program-guidance-documents/?lang=en
LOCATION:A Virtual Hearing\, See Connection Information\,
END:VEVENT
END:VCALENDAR
