BEGIN:VCALENDAR
VERSION:2.0
METHOD:PUBLISH
PRODID:-//hacksw/handcal//NONSGML v1.0//EN
BEGIN:VEVENT
DTSTAMP:20260423T090956Z
DTSTART:20230307T230000Z
DTEND:20230308T000000Z
UID:20230307T230000Z-20230308T000000Z-1668@dnrec.delaware.gov
SUMMARY:Public Hearing: DNREC Grid Resilience Formula Grant Program Ap
 plications
DESCRIPTION:The DNREC Division of Climate\, Coastal and Energy will co
 nduct a public hearing on grid resilience formula grant funding from S
 ection 40101(d) of the Bipartisan Infrastructure Law (Docket #2023-MIS
 C-CCE-0002). The public comment period is closed.
X-ALT-DESC;FMTTYPE=text/html:<p>The DNREC Division of Climate\, Coasta
 l and Energy will conduct a public hearing on grid resilience formula 
 grant funding from Section 40101(d) of the Bipartisan Infrastructure L
 aw (Docket #2023-MISC-CCE-0002). <strong>The public comment period is 
 closed.</strong></p>\n
URL:https://dnrec.delaware.gov/events/public-hearing-dnrec-grid-resili
 ence-formula-grant-program-applications/?lang=en
ATTACH:https://dnrec.delaware.gov/events/public-hearing-dnrec-grid-res
 ilience-formula-grant-program-applications/?lang=en
LOCATION:A Virtual Hearing\, See Connection Information\,
END:VEVENT
END:VCALENDAR
