BEGIN:VCALENDAR
VERSION:2.0
METHOD:PUBLISH
PRODID:-//hacksw/handcal//NONSGML v1.0//EN
BEGIN:VEVENT
DTSTAMP:20260425T110428Z
DTSTART:20231129T140000Z
DTEND:20231129T160000Z
UID:20231129T140000Z-20231129T160000Z-1557@dnrec.delaware.gov
SUMMARY:WIAC Surface Water Subcommittee
DESCRIPTION:A meeting to review materials for the Water Infrastructure
  Advisory Council.
X-ALT-DESC;FMTTYPE=text/html:<p>A meeting to review materials for the 
 Water Infrastructure Advisory Council. </p>\n
URL:https://dnrec.delaware.gov/events/wiac-surface-water-subcommittee-
 8/?lang=en
ATTACH:https://dnrec.delaware.gov/events/wiac-surface-water-subcommitt
 ee-8/?lang=en
LOCATION:Sussex Conservation District Offices\, 23818 Shortly Rd.\, Ge
 orgetown
END:VEVENT
END:VCALENDAR
