BEGIN:VCALENDAR
VERSION:2.0
METHOD:PUBLISH
PRODID:-//hacksw/handcal//NONSGML v1.0//EN
BEGIN:VEVENT
DTSTAMP:20260425T115015Z
DTSTART:20230907T170000Z
DTEND:20230907T180000Z
UID:20230907T170000Z-20230907T180000Z-1551@dnrec.delaware.gov
SUMMARY:WIAC Wastewater Subcommittee
DESCRIPTION:A meeting to review materials for the Water Infrastructure
  Advisory Council.
X-ALT-DESC;FMTTYPE=text/html:<p>A meeting to review materials for the 
 Water Infrastructure Advisory Council.</p>\n
URL:https://dnrec.delaware.gov/events/wiac-wastewater-subcommittee-6/?
 lang=en
ATTACH:https://dnrec.delaware.gov/events/wiac-wastewater-subcommittee-
 6/?lang=en
LOCATION:Becker Morgan Group\, Inc.\, 309 S. Governors Ave.\, Dover
END:VEVENT
END:VCALENDAR
