BEGIN:VCALENDAR
VERSION:2.0
METHOD:PUBLISH
PRODID:-//hacksw/handcal//NONSGML v1.0//EN
BEGIN:VEVENT
DTSTAMP:20260425T115017Z
DTSTART:20230306T190000Z
DTEND:20230306T203000Z
UID:20230306T190000Z-20230306T203000Z-1544@dnrec.delaware.gov
SUMMARY:WIAC Finance Subcommittee
DESCRIPTION:A meeting to review materials for the Water Infrastructure
  Advisory Council.
X-ALT-DESC;FMTTYPE=text/html:<p>A meeting to review materials for the 
 Water Infrastructure Advisory Council.</p>\n
URL:https://dnrec.delaware.gov/events/wiac-finance-subcommittee-5/?lan
 g=en
ATTACH:https://dnrec.delaware.gov/events/wiac-finance-subcommittee-5/?
 lang=en
END:VEVENT
END:VCALENDAR
