BEGIN:VCALENDAR
VERSION:2.0
METHOD:PUBLISH
PRODID:-//hacksw/handcal//NONSGML v1.0//EN
BEGIN:VEVENT
DTSTAMP:20260425T115017Z
DTSTART:20230228T130000Z
DTEND:20230228T150000Z
UID:20230228T130000Z-20230228T150000Z-1541@dnrec.delaware.gov
SUMMARY:WIAC Wastewater Subcommittee
DESCRIPTION:A meeting to review materials for the Water Infrastructure
  Advisory Council.
X-ALT-DESC;FMTTYPE=text/html:<p>A meeting to review materials for the 
 Water Infrastructure Advisory Council.</p>\n
URL:https://dnrec.delaware.gov/events/wiac-wastewater-subcommittee-4/?
 lang=en
ATTACH:https://dnrec.delaware.gov/events/wiac-wastewater-subcommittee-
 4/?lang=en
LOCATION:A Virtual Meeting\, See Connection Information\,
END:VEVENT
END:VCALENDAR
