BEGIN:VCALENDAR
VERSION:2.0
METHOD:PUBLISH
PRODID:-//hacksw/handcal//NONSGML v1.0//EN
BEGIN:VEVENT
DTSTAMP:20260421T184547Z
DTSTART:20221117T230000Z
DTEND:20221118T010000Z
UID:20221117T230000Z-20221118T010000Z-1531@dnrec.delaware.gov
SUMMARY:Public Workshop: Draft Amendments to the Low Emission Vehicle 
 Program
DESCRIPTION:Join staff from the Division of Air Quality to learn about
  proposed amendments to Delaware’s Low Emission Vehicle Program.
X-ALT-DESC;FMTTYPE=text/html:<p>Join staff from the Division of Air Qu
 ality to learn about proposed amendments to Delaware&#8217\;s Low Emis
 sion Vehicle Program. </p>\n
URL:https://dnrec.delaware.gov/events/public-workshop-draft-amendments
 -to-the-low-emission-vehicle-program-3/?lang=en
ATTACH:https://dnrec.delaware.gov/events/public-workshop-draft-amendme
 nts-to-the-low-emission-vehicle-program-3/?lang=en
END:VEVENT
END:VCALENDAR
