BEGIN:VCALENDAR
VERSION:2.0
METHOD:PUBLISH
PRODID:-//hacksw/handcal//NONSGML v1.0//EN
BEGIN:VEVENT
DTSTAMP:20260423T133815Z
DTSTART:20220928T220000Z
DTEND:20220928T230000Z
UID:20220928T220000Z-20220928T230000Z-1490@dnrec.delaware.gov
SUMMARY:Public Information Session: Bioenergy Innovation Center Projec
 t
DESCRIPTION:Learn about a proposal to expand the Bioenergy Innovation 
 Center\, in Seaford\, to produce renewable natural gas from organic wa
 stes.
X-ALT-DESC;FMTTYPE=text/html:<p>Learn about a proposal to expand the B
 ioenergy Innovation Center\, in Seaford\, to produce renewable natural
  gas from organic wastes.</p>\n
URL:https://dnrec.delaware.gov/events/public-information-session-bioen
 ergy-innovation-center-project/?lang=en
ATTACH:https://dnrec.delaware.gov/events/public-information-session-bi
 oenergy-innovation-center-project/?lang=en
END:VEVENT
END:VCALENDAR
