BEGIN:VCALENDAR
VERSION:2.0
METHOD:PUBLISH
PRODID:-//hacksw/handcal//NONSGML v1.0//EN
BEGIN:VEVENT
DTSTAMP:20260421T021020Z
DTSTART:20220525T140000Z
DTEND:20220525T150000Z
UID:20220525T140000Z-20220525T150000Z-1343@dnrec.delaware.gov
SUMMARY:Public Workshop 1: Inspection and Maintenance Program Amendmen
 ts
DESCRIPTION:Join staff from the DNREC Division of Air Quality to learn
  about proposed amendments to the Delaware Inspection and Maintenance 
 Program.
X-ALT-DESC;FMTTYPE=text/html:<p>Join staff from the DNREC Division of 
 Air Quality to learn about proposed amendments to the Delaware Inspect
 ion and Maintenance Program.</p>\n
URL:https://dnrec.delaware.gov/events/public-workshop-1-inspection-and
 -maintenance-program-amendments-2/?lang=en
ATTACH:https://dnrec.delaware.gov/events/public-workshop-1-inspection-
 and-maintenance-program-amendments-2/?lang=en
END:VEVENT
END:VCALENDAR
