BEGIN:VCALENDAR
VERSION:2.0
METHOD:PUBLISH
PRODID:-//hacksw/handcal//NONSGML v1.0//EN
BEGIN:VEVENT
DTSTAMP:20260423T205406Z
DTSTART:20220427T220000Z
DTEND:20220427T230000Z
UID:20220427T220000Z-20220427T230000Z-1290@dnrec.delaware.gov
SUMMARY:Public Hearing: Clean Delaware Agricultural Utilization Permit
  Renewal
DESCRIPTION:The DNREC Division of Water will hold a public hearing (Do
 cket #2022-P-W-0005) on a request by Clean Delaware LLC to renew their
  existing Agricultural Utilization (AGU) permit. Public comment period
  closed.
X-ALT-DESC;FMTTYPE=text/html:<p>The DNREC Division of Water will hold 
 a public hearing (Docket #2022-P-W-0005) on a request by Clean Delawar
 e LLC to renew their existing Agricultural Utilization (AGU) permit. <
 strong>Public comment period closed.</strong></p>\n
URL:https://dnrec.delaware.gov/events/public-hearing-clean-delaware-ag
 ricultural-utilization-permit-renewal/?lang=en
ATTACH:https://dnrec.delaware.gov/events/public-hearing-clean-delaware
 -agricultural-utilization-permit-renewal/?lang=en
END:VEVENT
END:VCALENDAR
