BEGIN:VCALENDAR
VERSION:2.0
METHOD:PUBLISH
PRODID:-//hacksw/handcal//NONSGML v1.0//EN
BEGIN:VEVENT
DTSTAMP:20260425T102922Z
DTSTART:20220606T180000Z
DTEND:20220606T193000Z
UID:20220606T180000Z-20220606T193000Z-1249@dnrec.delaware.gov
SUMMARY:WIAC Finance Subcommittee
DESCRIPTION:A meeting to review materials for the Water Infrastructure
  Advisory Council.
X-ALT-DESC;FMTTYPE=text/html:<p>A meeting to review materials for the 
 Water Infrastructure Advisory Council.</p>\n
URL:https://dnrec.delaware.gov/events/wiac-finance-subcommittee-2/?lan
 g=en
ATTACH:https://dnrec.delaware.gov/events/wiac-finance-subcommittee-2/?
 lang=en
END:VEVENT
END:VCALENDAR
