BEGIN:VCALENDAR
VERSION:2.0
METHOD:PUBLISH
PRODID:-//hacksw/handcal//NONSGML v1.0//EN
BEGIN:VEVENT
DTSTAMP:20260425T102923Z
DTSTART:20220601T130000Z
DTEND:20220601T150000Z
UID:20220601T130000Z-20220601T150000Z-1246@dnrec.delaware.gov
SUMMARY:WIAC Surface Water Subcommittee
DESCRIPTION:A meeting to review materials for the Water Infrastructure
  Advisory Council.
X-ALT-DESC;FMTTYPE=text/html:<p>A meeting to review materials for the 
 Water Infrastructure Advisory Council. </p>\n
URL:https://dnrec.delaware.gov/events/wiac-surface-water-subcommittee-
 2/?lang=en
ATTACH:https://dnrec.delaware.gov/events/wiac-surface-water-subcommitt
 ee-2/?lang=en
END:VEVENT
END:VCALENDAR
