BEGIN:VCALENDAR
VERSION:2.0
METHOD:PUBLISH
PRODID:-//hacksw/handcal//NONSGML v1.0//EN
BEGIN:VEVENT
DTSTAMP:20260425T102920Z
DTSTART:20220601T123000Z
DTEND:20220601T143000Z
UID:20220601T123000Z-20220601T143000Z-1240@dnrec.delaware.gov
SUMMARY:WIAC Wastewater Subcommittee
DESCRIPTION:A meeting to review materials for the Water Infrastructure
  Advisory Council.
X-ALT-DESC;FMTTYPE=text/html:<p>A meeting to review materials for the 
 Water Infrastructure Advisory Council.</p>\n
URL:https://dnrec.delaware.gov/events/wiac-wastewater-subcommittee/?la
 ng=en
ATTACH:https://dnrec.delaware.gov/events/wiac-wastewater-subcommittee/
 ?lang=en
END:VEVENT
END:VCALENDAR
