BEGIN:VCALENDAR
VERSION:2.0
METHOD:PUBLISH
PRODID:-//hacksw/handcal//NONSGML v1.0//EN
BEGIN:VEVENT
DTSTAMP:20260424T213115Z
DTSTART:20220112T180000Z
DTEND:20220112T200000Z
UID:20220112T180000Z-20220112T200000Z-1199@dnrec.delaware.gov
SUMMARY:Energy Efficiency Advisory Council
DESCRIPTION:A virtual meeting of the Delaware Energy Efficiency Adviso
 ry Council.
X-ALT-DESC;FMTTYPE=text/html:<p>A virtual meeting of the Delaware Ener
 gy Efficiency Advisory Council.</p>\n
URL:https://dnrec.delaware.gov/events/energy-efficiency-advisory-counc
 il-2/?lang=en
ATTACH:https://dnrec.delaware.gov/events/energy-efficiency-advisory-co
 uncil-2/?lang=en
LOCATION:DNREC Offices\, State Street Commons\, 100 W. Water Street\, 
 Dover
END:VEVENT
END:VCALENDAR
