BEGIN:VCALENDAR
VERSION:2.0
METHOD:PUBLISH
PRODID:-//hacksw/handcal//NONSGML v1.0//EN
BEGIN:VEVENT
DTSTAMP:20260423T133811Z
DTSTART:20220316T130000Z
DTEND:20220316T160000Z
UID:20220316T130000Z-20220316T160000Z-1188@dnrec.delaware.gov
SUMMARY:Water Infrastructure Advisory Council
DESCRIPTION:A meeting to discuss clean water\, drinking water\, and st
 ormwater issues.
X-ALT-DESC;FMTTYPE=text/html:<p>A meeting to discuss clean water\, dri
 nking water\, and stormwater issues.</p>\n
URL:https://dnrec.delaware.gov/events/water-infrastructure-advisory-co
 uncil-15/?lang=en
ATTACH:https://dnrec.delaware.gov/events/water-infrastructure-advisory
 -council-15/?lang=en
END:VEVENT
END:VCALENDAR
