BEGIN:VCALENDAR
VERSION:2.0
METHOD:PUBLISH
PRODID:-//hacksw/handcal//NONSGML v1.0//EN
BEGIN:VEVENT
DTSTAMP:20260425T123112Z
DTSTART:20220307T190000Z
DTEND:20220307T203000Z
UID:20220307T190000Z-20220307T203000Z-1187@dnrec.delaware.gov
SUMMARY:WIAC Finance Subcommittee
DESCRIPTION:A meeting to review materials for the Water Infrastructure
  Advisory Council.
X-ALT-DESC;FMTTYPE=text/html:<p>A meeting to review materials for the 
 Water Infrastructure Advisory Council.</p>\n
URL:https://dnrec.delaware.gov/events/wiac-finance-subcommittee/?lang=
 en
ATTACH:https://dnrec.delaware.gov/events/wiac-finance-subcommittee/?la
 ng=en
END:VEVENT
END:VCALENDAR
