BEGIN:VCALENDAR
VERSION:2.0
METHOD:PUBLISH
PRODID:-//hacksw/handcal//NONSGML v1.0//EN
BEGIN:VEVENT
DTSTAMP:20260426T013829Z
DTSTART:20211013T170000Z
DTEND:20211013T190000Z
UID:20211013T170000Z-20211013T190000Z-1146@dnrec.delaware.gov
SUMMARY:Energy Efficiency Advisory Council
DESCRIPTION:A virtual meeting of the Delaware Energy Efficiency Adviso
 ry Council.
X-ALT-DESC;FMTTYPE=text/html:<p>A virtual meeting of the Delaware Ener
 gy Efficiency Advisory Council.</p>\n
URL:https://dnrec.delaware.gov/events/energy-efficiency-advisory-counc
 il/?lang=en
ATTACH:https://dnrec.delaware.gov/events/energy-efficiency-advisory-co
 uncil/?lang=en
LOCATION:DNREC Offices\, State Street Commons\, 100 W. Water Street\, 
 Dover
END:VEVENT
END:VCALENDAR
