BEGIN:VCALENDAR
VERSION:2.0
METHOD:PUBLISH
PRODID:-//hacksw/handcal//NONSGML v1.0//EN
BEGIN:VEVENT
DTSTAMP:20260423T133812Z
DTSTART:20210526T220000Z
DTEND:20210526T233000Z
UID:20210526T220000Z-20210526T233000Z-1034@dnrec.delaware.gov
SUMMARY:Public Hearing: FujiFilm Coastal Zone Act Permit
DESCRIPTION:The DNREC Coastal Zone Act Program will hold a virtual pub
 ic hearing (Docket #2021-P-CZ-0004) on an application by FujiFilm to b
 uild a new manufacturing plant in New Castle. Public comment period cl
 osed.
X-ALT-DESC;FMTTYPE=text/html:<p>The DNREC <a href=https://dnrec.delawa
 re.gov/coastal-zone-act/>Coastal Zone Act Program</a> will hold a virt
 ual pubic hearing (Docket #2021-P-CZ-0004) on an application by FujiFi
 lm to build a new manufacturing plant in New Castle. <strong>Public co
 mment period closed.</strong></p>\n
URL:https://dnrec.delaware.gov/events/public-hearing-fujifilm-coastal-
 zone-act-permit/?lang=en
ATTACH:https://dnrec.delaware.gov/events/public-hearing-fujifilm-coast
 al-zone-act-permit/?lang=en
END:VEVENT
END:VCALENDAR
